BEGIN:VCALENDAR
VERSION:2.0
PRODID:-//Centre Assomption Lourdes - ECPv6.15.20//NONSGML v1.0//EN
CALSCALE:GREGORIAN
METHOD:PUBLISH
X-ORIGINAL-URL:https://www.assomption-lourdes.com
X-WR-CALDESC:évènements pour Centre Assomption Lourdes
REFRESH-INTERVAL;VALUE=DURATION:PT1H
X-Robots-Tag:noindex
X-PUBLISHED-TTL:PT1H
BEGIN:VTIMEZONE
TZID:Europe/Paris
BEGIN:DAYLIGHT
TZOFFSETFROM:+0100
TZOFFSETTO:+0200
TZNAME:CEST
DTSTART:20220327T010000
END:DAYLIGHT
BEGIN:STANDARD
TZOFFSETFROM:+0200
TZOFFSETTO:+0100
TZNAME:CET
DTSTART:20221030T010000
END:STANDARD
BEGIN:DAYLIGHT
TZOFFSETFROM:+0100
TZOFFSETTO:+0200
TZNAME:CEST
DTSTART:20230326T010000
END:DAYLIGHT
BEGIN:STANDARD
TZOFFSETFROM:+0200
TZOFFSETTO:+0100
TZNAME:CET
DTSTART:20231029T010000
END:STANDARD
BEGIN:DAYLIGHT
TZOFFSETFROM:+0100
TZOFFSETTO:+0200
TZNAME:CEST
DTSTART:20240331T010000
END:DAYLIGHT
BEGIN:STANDARD
TZOFFSETFROM:+0200
TZOFFSETTO:+0100
TZNAME:CET
DTSTART:20241027T010000
END:STANDARD
END:VTIMEZONE
BEGIN:VEVENT
DTSTART;TZID=Europe/Paris:20231015T180000
DTEND;TZID=Europe/Paris:20231021T090000
DTSTAMP:20260424T075136
CREATED:20230907T082929Z
LAST-MODIFIED:20230913T084204Z
UID:10000002-1697392800-1697878800@www.assomption-lourdes.com
SUMMARY:De la première à la dernière Apparition : une expérience spirituelle
DESCRIPTION:Retraite prêchée par Mgr Jacques PERRIER\, évêque émérite de Tarbes et Lourdes :\n \nDu dimanche 15 octobre (19h00) \nau samedi 21 octobre 2023 (9h00) \n465 euros \nDont la cotisation annuelle de 12 euros \nLa question financière ne doit pas être un obstacle. N’hésitez pas à l’évoquer lors de votre inscription. \nTélécharger le dépliant.
URL:https://www.assomption-lourdes.com/evemenent/de-la-premiere-a-la-derniere-apparition-une-experience-spirituelle/
CATEGORIES:agenda
END:VEVENT
END:VCALENDAR