BEGIN:VCALENDAR
VERSION:2.0
PRODID:-//Centre Assomption Lourdes - ECPv6.15.20//NONSGML v1.0//EN
CALSCALE:GREGORIAN
METHOD:PUBLISH
X-WR-CALNAME:Centre Assomption Lourdes
X-ORIGINAL-URL:https://www.assomption-lourdes.com
X-WR-CALDESC:évènements pour Centre Assomption Lourdes
REFRESH-INTERVAL;VALUE=DURATION:PT1H
X-Robots-Tag:noindex
X-PUBLISHED-TTL:PT1H
BEGIN:VTIMEZONE
TZID:Europe/Paris
BEGIN:DAYLIGHT
TZOFFSETFROM:+0100
TZOFFSETTO:+0200
TZNAME:CEST
DTSTART:20220327T010000
END:DAYLIGHT
BEGIN:STANDARD
TZOFFSETFROM:+0200
TZOFFSETTO:+0100
TZNAME:CET
DTSTART:20221030T010000
END:STANDARD
BEGIN:DAYLIGHT
TZOFFSETFROM:+0100
TZOFFSETTO:+0200
TZNAME:CEST
DTSTART:20230326T010000
END:DAYLIGHT
BEGIN:STANDARD
TZOFFSETFROM:+0200
TZOFFSETTO:+0100
TZNAME:CET
DTSTART:20231029T010000
END:STANDARD
BEGIN:DAYLIGHT
TZOFFSETFROM:+0100
TZOFFSETTO:+0200
TZNAME:CEST
DTSTART:20240331T010000
END:DAYLIGHT
BEGIN:STANDARD
TZOFFSETFROM:+0200
TZOFFSETTO:+0100
TZNAME:CET
DTSTART:20241027T010000
END:STANDARD
END:VTIMEZONE
BEGIN:VEVENT
DTSTART;TZID=Europe/Paris:20231225T100000
DTEND;TZID=Europe/Paris:20231225T110000
DTSTAMP:20260424T045736
CREATED:20231025T121751Z
LAST-MODIFIED:20240129T161434Z
UID:10000003-1703498400-1703502000@www.assomption-lourdes.com
SUMMARY:Messe du jour de Noël
DESCRIPTION:Actuellement\, il semble qu’il y ait un problème d’affichage des dates sur les Évènements.
URL:https://www.assomption-lourdes.com/evemenent/messe-du-jour-de-noel/
LOCATION:Centre Assomption\, 21 avenue Antoine Béguère\, Lourdes\, 65100\, France
CATEGORIES:agenda
ATTACH;FMTTYPE=image/jpeg:https://www.assomption-lourdes.com/wp-content/uploads/2023/04/1-3-Nous-Contacter.jpg
END:VEVENT
END:VCALENDAR