BEGIN:VCALENDAR
VERSION:2.0
PRODID:-//Centre Assomption Lourdes - ECPv6.15.20//NONSGML v1.0//EN
CALSCALE:GREGORIAN
METHOD:PUBLISH
X-ORIGINAL-URL:https://www.assomption-lourdes.com
X-WR-CALDESC:évènements pour Centre Assomption Lourdes
REFRESH-INTERVAL;VALUE=DURATION:PT1H
X-Robots-Tag:noindex
X-PUBLISHED-TTL:PT1H
BEGIN:VTIMEZONE
TZID:Europe/Paris
BEGIN:DAYLIGHT
TZOFFSETFROM:+0100
TZOFFSETTO:+0200
TZNAME:CEST
DTSTART:20230326T010000
END:DAYLIGHT
BEGIN:STANDARD
TZOFFSETFROM:+0200
TZOFFSETTO:+0100
TZNAME:CET
DTSTART:20231029T010000
END:STANDARD
BEGIN:DAYLIGHT
TZOFFSETFROM:+0100
TZOFFSETTO:+0200
TZNAME:CEST
DTSTART:20240331T010000
END:DAYLIGHT
BEGIN:STANDARD
TZOFFSETFROM:+0200
TZOFFSETTO:+0100
TZNAME:CET
DTSTART:20241027T010000
END:STANDARD
BEGIN:DAYLIGHT
TZOFFSETFROM:+0100
TZOFFSETTO:+0200
TZNAME:CEST
DTSTART:20250330T010000
END:DAYLIGHT
BEGIN:STANDARD
TZOFFSETFROM:+0200
TZOFFSETTO:+0100
TZNAME:CET
DTSTART:20251026T010000
END:STANDARD
END:VTIMEZONE
BEGIN:VEVENT
DTSTART;TZID=Europe/Paris:20240406T143000
DTEND;TZID=Europe/Paris:20240406T160000
DTSTAMP:20260423T231649
CREATED:20240610T102645Z
LAST-MODIFIED:20240610T102646Z
UID:10000054-1712413800-1712419200@www.assomption-lourdes.com
SUMMARY:École de prière : Dernière rencontre pour redécouvrir la prière
DESCRIPTION:En collaboration avec les référents diocésains du Rassemblement KERYGMA qui a eu lieu à Lourdes au mois d’octobre 2023 et des Religieuses de l’Assomption\, notre Communauté de l’église Saint-Jean-Baptiste de Lourdes vous propose de redécouvrir ou d’approfondir le sens de la prière chrétienne par une session de formation accessible à tous. \nNous le savons\, afin de préparer la célébration de l’année Sainte 2025\, le Pape nous invite à faire de 2024 l’année de la prière. \nNous nous réunirons tous les quinze jours\, le samedi de 14h30 à 16H00 : chaque rencontre comportera un exposé et un temps de prière. \nVous êtes invités à suivre l’ensemble des huit rencontres. Sachez cependant que les séances sont indépendantes les unes des autres. \nLes rencontres se vivent au Centre Assomption de Lourdes\, 21 Avenue Antoine Béguère. \nUne libre participation aux frais sera demandée. \nProgramme de la session : \nLa première rencontre aura lieu le Samedi 17 février\, Premier samedi de Carême \n\n17 février: présentation du parcours des 8 rencontres. Qu’est-ce que prier ? Pourquoi prier ? Qui est ce Dieu à qui nous pouvons nous adresser ?\n2 mars : Comment prier avec la Parole de Dieu ? Nous nous mettrons à l’école de Saint Ignace de Loyola. L’Evangile du jour (Luc 15\, 11-32) sera notre guide.\n6 avril: La prière de louange\, dans la lumière de la Résurrection. La joie.\n20 avril: La prière\, le discernement des esprits : apprendre à lire l’action de Dieu dans nos vies. La vie spirituelle.\n4 mai: Comment prier avec le Rosaire ?\n18 mai: l’Esprit Saint\, maître de la prière. En cette veille de la fête de la Pentecôte\, appeler l’Esprit\, la laisser agir en nos vies\, nous « qui ne savons que demander pour prier comme il faut » (Rom. 8\, 26).\n1er juin: Prier avec la liturgie. Ecoutons le Pape François :      « J’oserais dire qu’un christianisme sans liturgie est peut-être un christianisme sans Christ ». La place des Sacrements dans notre vie.\n15 juin: Prier dans la vie quotidienne. Relecture de notre année\n\nEnsemble Paroissial de Lourdes – Diocèse de Tarbes et Lourdes – Février 2024 \nTélécharger le .pdf
URL:https://www.assomption-lourdes.com/evemenent/ecole-de-priere-huit-rencontres-pour-redecouvrir-la-priere/2024-04-06/
LOCATION:Centre Assomption\, 21 avenue Antoine Béguère\, Lourdes\, 65100\, France
CATEGORIES:agenda
END:VEVENT
BEGIN:VEVENT
DTSTART;TZID=Europe/Paris:20240420T143000
DTEND;TZID=Europe/Paris:20240420T160000
DTSTAMP:20260423T231649
CREATED:20240610T102645Z
LAST-MODIFIED:20240610T102646Z
UID:10000055-1713623400-1713628800@www.assomption-lourdes.com
SUMMARY:École de prière : Dernière rencontre pour redécouvrir la prière
DESCRIPTION:En collaboration avec les référents diocésains du Rassemblement KERYGMA qui a eu lieu à Lourdes au mois d’octobre 2023 et des Religieuses de l’Assomption\, notre Communauté de l’église Saint-Jean-Baptiste de Lourdes vous propose de redécouvrir ou d’approfondir le sens de la prière chrétienne par une session de formation accessible à tous. \nNous le savons\, afin de préparer la célébration de l’année Sainte 2025\, le Pape nous invite à faire de 2024 l’année de la prière. \nNous nous réunirons tous les quinze jours\, le samedi de 14h30 à 16H00 : chaque rencontre comportera un exposé et un temps de prière. \nVous êtes invités à suivre l’ensemble des huit rencontres. Sachez cependant que les séances sont indépendantes les unes des autres. \nLes rencontres se vivent au Centre Assomption de Lourdes\, 21 Avenue Antoine Béguère. \nUne libre participation aux frais sera demandée. \nProgramme de la session : \nLa première rencontre aura lieu le Samedi 17 février\, Premier samedi de Carême \n\n17 février: présentation du parcours des 8 rencontres. Qu’est-ce que prier ? Pourquoi prier ? Qui est ce Dieu à qui nous pouvons nous adresser ?\n2 mars : Comment prier avec la Parole de Dieu ? Nous nous mettrons à l’école de Saint Ignace de Loyola. L’Evangile du jour (Luc 15\, 11-32) sera notre guide.\n6 avril: La prière de louange\, dans la lumière de la Résurrection. La joie.\n20 avril: La prière\, le discernement des esprits : apprendre à lire l’action de Dieu dans nos vies. La vie spirituelle.\n4 mai: Comment prier avec le Rosaire ?\n18 mai: l’Esprit Saint\, maître de la prière. En cette veille de la fête de la Pentecôte\, appeler l’Esprit\, la laisser agir en nos vies\, nous « qui ne savons que demander pour prier comme il faut » (Rom. 8\, 26).\n1er juin: Prier avec la liturgie. Ecoutons le Pape François :      « J’oserais dire qu’un christianisme sans liturgie est peut-être un christianisme sans Christ ». La place des Sacrements dans notre vie.\n15 juin: Prier dans la vie quotidienne. Relecture de notre année\n\nEnsemble Paroissial de Lourdes – Diocèse de Tarbes et Lourdes – Février 2024 \nTélécharger le .pdf
URL:https://www.assomption-lourdes.com/evemenent/ecole-de-priere-huit-rencontres-pour-redecouvrir-la-priere/2024-04-20/
LOCATION:Centre Assomption\, 21 avenue Antoine Béguère\, Lourdes\, 65100\, France
CATEGORIES:agenda
END:VEVENT
END:VCALENDAR