BEGIN:VCALENDAR
VERSION:2.0
PRODID:-//Centre Assomption Lourdes - ECPv6.15.20//NONSGML v1.0//EN
CALSCALE:GREGORIAN
METHOD:PUBLISH
X-ORIGINAL-URL:https://www.assomption-lourdes.com
X-WR-CALDESC:évènements pour Centre Assomption Lourdes
REFRESH-INTERVAL;VALUE=DURATION:PT1H
X-Robots-Tag:noindex
X-PUBLISHED-TTL:PT1H
BEGIN:VTIMEZONE
TZID:Europe/Paris
BEGIN:DAYLIGHT
TZOFFSETFROM:+0100
TZOFFSETTO:+0200
TZNAME:CEST
DTSTART:20240331T010000
END:DAYLIGHT
BEGIN:STANDARD
TZOFFSETFROM:+0200
TZOFFSETTO:+0100
TZNAME:CET
DTSTART:20241027T010000
END:STANDARD
BEGIN:DAYLIGHT
TZOFFSETFROM:+0100
TZOFFSETTO:+0200
TZNAME:CEST
DTSTART:20250330T010000
END:DAYLIGHT
BEGIN:STANDARD
TZOFFSETFROM:+0200
TZOFFSETTO:+0100
TZNAME:CET
DTSTART:20251026T010000
END:STANDARD
BEGIN:DAYLIGHT
TZOFFSETFROM:+0100
TZOFFSETTO:+0200
TZNAME:CEST
DTSTART:20260329T010000
END:DAYLIGHT
BEGIN:STANDARD
TZOFFSETFROM:+0200
TZOFFSETTO:+0100
TZNAME:CET
DTSTART:20261025T010000
END:STANDARD
END:VTIMEZONE
BEGIN:VEVENT
DTSTART;TZID=Europe/Paris:20250209T083000
DTEND;TZID=Europe/Paris:20250209T170000
DTSTAMP:20260423T100833
CREATED:20250207T104024Z
LAST-MODIFIED:20250207T104027Z
UID:10000065-1739089800-1739120400@www.assomption-lourdes.com
SUMMARY:JOURNEES DE LOURDES
DESCRIPTION:Le Centre Assomption sera présent au Village des repères…venez nous rendre visite !!
URL:https://www.assomption-lourdes.com/evemenent/journees-de-lourdes/
END:VEVENT
END:VCALENDAR