BEGIN:VCALENDAR
VERSION:2.0
PRODID:-//Centre Assomption Lourdes - ECPv6.15.20//NONSGML v1.0//EN
CALSCALE:GREGORIAN
METHOD:PUBLISH
X-ORIGINAL-URL:https://www.assomption-lourdes.com
X-WR-CALDESC:évènements pour Centre Assomption Lourdes
REFRESH-INTERVAL;VALUE=DURATION:PT1H
X-Robots-Tag:noindex
X-PUBLISHED-TTL:PT1H
BEGIN:VTIMEZONE
TZID:Europe/Paris
BEGIN:DAYLIGHT
TZOFFSETFROM:+0100
TZOFFSETTO:+0200
TZNAME:CEST
DTSTART:20250330T010000
END:DAYLIGHT
BEGIN:STANDARD
TZOFFSETFROM:+0200
TZOFFSETTO:+0100
TZNAME:CET
DTSTART:20251026T010000
END:STANDARD
BEGIN:DAYLIGHT
TZOFFSETFROM:+0100
TZOFFSETTO:+0200
TZNAME:CEST
DTSTART:20260329T010000
END:DAYLIGHT
BEGIN:STANDARD
TZOFFSETFROM:+0200
TZOFFSETTO:+0100
TZNAME:CET
DTSTART:20261025T010000
END:STANDARD
BEGIN:DAYLIGHT
TZOFFSETFROM:+0100
TZOFFSETTO:+0200
TZNAME:CEST
DTSTART:20270328T010000
END:DAYLIGHT
BEGIN:STANDARD
TZOFFSETFROM:+0200
TZOFFSETTO:+0100
TZNAME:CET
DTSTART:20271031T010000
END:STANDARD
END:VTIMEZONE
BEGIN:VEVENT
DTSTART;TZID=Europe/Paris:20260705T190000
DTEND;TZID=Europe/Paris:20260710T200000
DTSTAMP:20260420T183500
CREATED:20260417T065242Z
LAST-MODIFIED:20260417T065244Z
UID:10000077-1783278000-1783713600@www.assomption-lourdes.com
SUMMARY:RETRAITE "SE LAISSER ECLAIRER PAR LE PROPHETE"
DESCRIPTION:Animée par LE PERE EDOUARD DE LAPORTALIERE\, \n\n\n\n\nBulletin d’inscription ici
URL:https://www.assomption-lourdes.com/evemenent/retraite-se-laisser-eclairer-par-le-prophete/
CATEGORIES:agenda
END:VEVENT
BEGIN:VEVENT
DTSTART;TZID=Europe/Paris:20260713T190000
DTEND;TZID=Europe/Paris:20260722T090000
DTSTAMP:20260420T183500
CREATED:20260417T065529Z
LAST-MODIFIED:20260417T065531Z
UID:10000078-1783969200-1784710800@www.assomption-lourdes.com
SUMMARY:RETRAITE "MAGNIFICAT. S'ASSOCIER A L'ACTION DE GRACE DE MARIE"
DESCRIPTION:Animée par SOEUR CATHY JONES\, RELIGIEUSE DE L’ASSOMPTION\n\n\n\n\nBulletin d’inscription ici
URL:https://www.assomption-lourdes.com/evemenent/retraite-magnificat-sassocier-a-laction-de-grace-de-marie/
CATEGORIES:agenda
END:VEVENT
END:VCALENDAR