BEGIN:VCALENDAR
VERSION:2.0
PRODID:-//Centre Assomption Lourdes - ECPv6.15.20//NONSGML v1.0//EN
CALSCALE:GREGORIAN
METHOD:PUBLISH
X-ORIGINAL-URL:https://www.assomption-lourdes.com
X-WR-CALDESC:évènements pour Centre Assomption Lourdes
REFRESH-INTERVAL;VALUE=DURATION:PT1H
X-Robots-Tag:noindex
X-PUBLISHED-TTL:PT1H
BEGIN:VTIMEZONE
TZID:Europe/Paris
BEGIN:DAYLIGHT
TZOFFSETFROM:+0100
TZOFFSETTO:+0200
TZNAME:CEST
DTSTART:20250330T010000
END:DAYLIGHT
BEGIN:STANDARD
TZOFFSETFROM:+0200
TZOFFSETTO:+0100
TZNAME:CET
DTSTART:20251026T010000
END:STANDARD
BEGIN:DAYLIGHT
TZOFFSETFROM:+0100
TZOFFSETTO:+0200
TZNAME:CEST
DTSTART:20260329T010000
END:DAYLIGHT
BEGIN:STANDARD
TZOFFSETFROM:+0200
TZOFFSETTO:+0100
TZNAME:CET
DTSTART:20261025T010000
END:STANDARD
BEGIN:DAYLIGHT
TZOFFSETFROM:+0100
TZOFFSETTO:+0200
TZNAME:CEST
DTSTART:20270328T010000
END:DAYLIGHT
BEGIN:STANDARD
TZOFFSETFROM:+0200
TZOFFSETTO:+0100
TZNAME:CET
DTSTART:20271031T010000
END:STANDARD
END:VTIMEZONE
BEGIN:VEVENT
DTSTART;TZID=Europe/Paris:20260802T190000
DTEND;TZID=Europe/Paris:20260807T090000
DTSTAMP:20260420T195819
CREATED:20260417T065653Z
LAST-MODIFIED:20260417T065728Z
UID:10000079-1785697200-1786093200@www.assomption-lourdes.com
SUMMARY:RETRAITE "JE SUIS VENU POUR QU'ILS AIENT LA VIE"
DESCRIPTION:Animée par MONSEIGNEUR MICAS\n\n\n\n\nBulletin d’inscription ici
URL:https://www.assomption-lourdes.com/evemenent/retraite-je-suis-venu-pour-quils-aient-la-vie/
CATEGORIES:agenda
END:VEVENT
BEGIN:VEVENT
DTSTART;TZID=Europe/Paris:20260822T190000
DTEND;TZID=Europe/Paris:20260829T200000
DTSTAMP:20260420T195819
CREATED:20260417T065922Z
LAST-MODIFIED:20260417T065924Z
UID:10000080-1787425200-1788033600@www.assomption-lourdes.com
SUMMARY:RETRAITE "EXERCICES SPIRITUELS"
DESCRIPTION:Animée par LE PERE JEAN ROUET\n\n\n\n\nBulletin d’inscription ici
URL:https://www.assomption-lourdes.com/evemenent/retraite-exercices-spirituels-2/
CATEGORIES:agenda
END:VEVENT
BEGIN:VEVENT
DTSTART;TZID=Europe/Paris:20260831T190000
DTEND;TZID=Europe/Paris:20260905T090000
DTSTAMP:20260420T195819
CREATED:20260417T070833Z
LAST-MODIFIED:20260417T070835Z
UID:10000082-1788202800-1788598800@www.assomption-lourdes.com
SUMMARY:RETRAITE "LA FOI BOHEME"
DESCRIPTION:Animée par LE PERE BUYSE\n\n\n\n\nBulletin d’inscription ici
URL:https://www.assomption-lourdes.com/evemenent/retraite-la-foi-boheme/
CATEGORIES:agenda
END:VEVENT
END:VCALENDAR